BEGIN:VCALENDAR
VERSION:2.0
PRODID:-//ExpressionEngine Easy iCalendar plugin//NONSGML v2.0.1//EN
X-WR-TIMEZONE:America/New_York
X-WR-CALNAME:Upcoming Auctions
BEGIN:VEVENT
UID:72663
DTSTAMP:20211202T190000
DTSTART:20211202T190000
DTEND:20211213T190000
SUMMARY:December Consignment Auction
LOCATION:770 Cornell Road\, Rocky Mount\, VA 24151\, US
DESCRIPTION:December Consignment Auction  Bidding Opens - Thursday\, Dec
 ember 2nd at 7PM Bidding Ends - Monday\, December 13th beginn
 ing at 7PM Preview - Monday\, December 13th from 2PM till 5:3
 0PM at 770 Cornell Rd Rocky Mount\, VA 24151 Pickup/Removal -
  Tuesday\, December 14th from 10AM from 5:30PM at 770 Cornell
  Rd Rocky Mount\, VA 24151 Please Note: All items are sold AS
 -IS and WHERE-IS with no warranty expressed or implied. A 15
 % buyer premium applies to all purchases\, as does VA sales t
 ax. Receive a 3% discount off the premium by paying with cas
 h or GOOD check. Lucky Dog Auction is a licensed Federal Fir
 earms Dealer\, all state and federal gun laws apply. 
URL:https://www.luckydogauction.com/auctions/detail/bw72663
SEQUENCE:1
END:VEVENT
END:VCALENDAR