BEGIN:VCALENDAR
VERSION:2.0
PRODID:-//ExpressionEngine Easy iCalendar plugin//NONSGML v2.0.1//EN
X-WR-TIMEZONE:America/New_York
X-WR-CALNAME:Upcoming Auctions
BEGIN:VEVENT
UID:73731
DTSTAMP:20211215T190000
DTSTART:20211215T190000
DTEND:20211227T190000
SUMMARY:G. Ray Boone Estate - Final Auction
LOCATION:770 Cornell Rd\, Rocky Mount\, VA 24151\, US
DESCRIPTION:G. Ray Boone Estate Auction - Final Auction  Lucky Dog Auct
 ion Company is honored to present the FINAL AUCTION for the 
 Estate of G. Ray Boone. Mr. Boone was a well-known and respe
 cted auctioneer in Franklin County for many years and we are
  excited to offer his collections to you. This is the FINAL 
 auction for this estate\, please bid accordingly! Please note
  the auction details below: Bidding Opens - Wednesday\, Decem
 ber 15th at 7PM Bidding Closes - Monday\, December 27th begin
 ning at 7PM Preview/Open-House - Monday\, December 27th from 
 2PM till 5:30PM at 770 Cornell Road Rocky Mount\, VA 24151. R
 emoval/Pickup - Tuesday\, December 28th from 10AM till 5:30PM
  at 770 Cornell Road Rocky Mount\, VA 24151 Please Note: A 15
 % buyer premium applies to all purchases\, as does VA sales t
 ax. Receive a 3% discount off the premium by paying with cas
 h or GOOD check. All items are sold as-is and where-is with 
 no warranty expressed or implied. We have preview/open-house
  so you can satisfy yourself of condition prior to bidding.
URL:https://www.luckydogauction.com/auctions/detail/bw73731
SEQUENCE:1
END:VEVENT
END:VCALENDAR