BEGIN:VCALENDAR
VERSION:2.0
PRODID:-//ExpressionEngine Easy iCalendar plugin//NONSGML v2.0.1//EN
X-WR-TIMEZONE:America/New_York
X-WR-CALNAME:Upcoming Auctions
BEGIN:VEVENT
UID:73812
DTSTAMP:20211231T143500
DTSTART:20211231T143500
DTEND:20220110T190000
SUMMARY:January 2nd Amendment Auction
LOCATION:770 Cornell Road\, Rocky Mount\, VA 24151\, US
DESCRIPTION:January 2nd Amendment Auction  NOW ACCEPTING CONSIGNMENTS f
 or our upcoming February 2nd Amendment Auction! Call Mike Sm
 ith (540) 484-3320 or Phillip Via (540) 312-8569 to get your
  items in the next auction!  Bidding Opens - Saturday\, Janu
 ary 1st at NOON Bidding Closes - Monday\, January 10th beginn
 ing at 7PM Preview/Open-House - Monday\, January 10th from 10
 AM till 5:30PM at 770 Cornell Rd Rocky Mount\, VA 24151 Picku
 p/Removal - Tuesday\, January 11th from 10AM till 5:30PM at 7
 70 Cornell Rd Rocky Mount VA 24151  Please Note: All items 
 are sold as-is and where-is. A 15% buyer premium applies to 
 all purchases\, as does VA sales tax. Receive a 3% discount o
 ff the premium by paying with cash or GOOD check. All sales 
 are final. We are a federal firearms dealer\, all state and f
 ederal laws apply. 
URL:https://www.luckydogauction.com/auctions/detail/bw73812
SEQUENCE:1
END:VEVENT
END:VCALENDAR