BEGIN:VCALENDAR
VERSION:2.0
PRODID:-//ExpressionEngine Easy iCalendar plugin//NONSGML v2.0.1//EN
X-WR-TIMEZONE:America/New_York
X-WR-CALNAME:Upcoming Auctions
BEGIN:VEVENT
UID:74028
DTSTAMP:20211221T190000
DTSTART:20211221T190000
DTEND:20211228T190000
SUMMARY:Goodbye 2021 Auction
LOCATION:770 Cornell Road\, Rocky Mount\, VA 24151\, US
DESCRIPTION:Goodbye 2021 Auction Bidding Opens - Tuesday\, December 21st 
 at 7PM Bidding Closes - Tuesday\, December 28th beginning at 
 7PM Preview/Open-House - Tuesday\, December 28th from 2PM til
 l 5:30PM at 770 Cornell Rd Rocky Mount\, VA 24151 Removal/Pic
 kup - Wednesday\, December 29th from 10AM till 5:30PM at 770 
 Cornell Rd Rocky Mount\, VA 24151 Please Note: All items are 
 sold AS-IS and WHERE-IS with no warranty expressed or implie
 d. A 15% buyer premium applies to all purchases\, as does VA 
 sales tax. Receive a 3% discount off the premium by paying w
 ith cash or GOOD check. 
URL:https://www.luckydogauction.com/auctions/detail/bw74028
SEQUENCE:1
END:VEVENT
END:VCALENDAR