BEGIN:VCALENDAR
VERSION:2.0
PRODID:-//ExpressionEngine Easy iCalendar plugin//NONSGML v2.0.1//EN
X-WR-TIMEZONE:America/New_York
X-WR-CALNAME:Upcoming Auctions
BEGIN:VEVENT
UID:74270
DTSTAMP:20220216T120000
DTSTART:20220216T120000
DTEND:20220228T190000
SUMMARY:Spring Equipment Auction
LOCATION:770 Cornell Road\, Rocky Mount\, VA 24151\, US
DESCRIPTION:Spring Equipment Auction  Bidding Opens - Wednesday\, Februa
 ry 16th at NOON Bidding Closes - Monday\, February 28th begin
 ning at 7PM Preview - Saturday\, February 26th from 9AM till 
 NOON & Monday\, February 28th from 10AM till 5PM at 770 Corne
 ll Rd Rocky Mount\, VA 24151 Pickup/Removal - Tuesday\, March 
 1st from 10AM till 6PM Please Note: All items are sold as-is
  and where-is with no warranty expressed or implied. Preview
  is highly encouraged to satisy yourself of condition prior 
 to bidding. A 15% buyer premium applies to all purchases\, as
  does VA sales tax. Receive a 3% discount off the premium by
  paying with cash or good check. If we have not done busines
 s with you before and you write us a check\, we reserve the r
 ight to hold the item(s) until the check clears. If you are 
 tax exempt\, you need to bring us a complete ST-10 or ST-18\, 
 which ever applies. Tax will not be removed unless we have a
  complete form in hand. Out of state tax exemptions do not a
 pply\, it MUST be a Virginia form. 
URL:https://www.luckydogauction.com/auctions/detail/bw74270
SEQUENCE:1
END:VEVENT
END:VCALENDAR