BEGIN:VCALENDAR
VERSION:2.0
PRODID:-//ExpressionEngine Easy iCalendar plugin//NONSGML v2.0.1//EN
X-WR-TIMEZONE:America/New_York
X-WR-CALNAME:Upcoming Auctions
BEGIN:VEVENT
UID:74275
DTSTAMP:20220101T143000
DTSTART:20220101T143000
DTEND:20220210T190000
SUMMARY:February 2nd Amendment Auction
LOCATION:770 Cornell Road\, Rocky Mount\, VA 24151\, US
DESCRIPTION:February 2nd Amendment Auction This auction is FULL but\, we 
 are still accepting consignments for upcoming firearms aucti
 ons! Call Mike Smith at (540) 484-3320 to get your assets in
  front of the biggest audience this area has to offer!  Bid
 ding Opens - Tuesday. February 1st at 7PM Bidding Closes - T
 hursday\, February 10th beginning at 7PM Preview/Open-House -
  Thursday\, February 10th from 10AM till 5:30PM at 770 Cornel
 l Rd Rocky Mount\, VA 24151  Pickup/Removal - Friday\, Februa
 ry 11th from 10AM till 5:30PM - All purchases must be paid b
 y end of business on pickup day. All items are sold as-is an
 d where-is with no warranty expressed or implied. A 15% buye
 r premium applies to all purchases\, as does VA sales tax.  
 Receive a 3% discount off the premium by paying with cash or
  good check. 
URL:https://www.luckydogauction.com/auctions/detail/bw74275
SEQUENCE:1
END:VEVENT
END:VCALENDAR