BEGIN:VCALENDAR
VERSION:2.0
PRODID:-//ExpressionEngine Easy iCalendar plugin//NONSGML v2.0.1//EN
X-WR-TIMEZONE:America/New_York
X-WR-CALNAME:Upcoming Auctions
BEGIN:VEVENT
UID:74441
DTSTAMP:20220105T190000
DTSTART:20220105T190000
DTEND:20220112T190000
SUMMARY:January Consignment Auction - Part 1
LOCATION:770 Cornell Road\, Rocky Mount\, VA 24151\, US
DESCRIPTION:January Consignment Auction - Part 1  Bidding Opens - Wedne
 sday\, January 5th at 7PM Bidding Closes - Wednesday\, January
  12th beginning at 7PM Preview/Open-House - Wednesday\, Janua
 ry 12th from 2PM till 5:30PM Pickup/Removal - Thursday\, Janu
 ary 13th from 10AM till 5:30PM Please Note: All items are so
 ld as-is and where-is with no warranty expressed or implied.
  A 15% buyer premium applies to all purchases\, as does VA sa
 les tax. Receive a 3% discount off the buyer premium by payi
 ng with cash or GOOD check. Preview is always encouraged so 
 you can satisfy yourself of condition prior to bidding. 
URL:https://www.luckydogauction.com/auctions/detail/bw74441
SEQUENCE:1
END:VEVENT
END:VCALENDAR