BEGIN:VCALENDAR
VERSION:2.0
PRODID:-//ExpressionEngine Easy iCalendar plugin//NONSGML v2.0.1//EN
X-WR-TIMEZONE:America/New_York
X-WR-CALNAME:Upcoming Auctions
BEGIN:VEVENT
UID:74457
DTSTAMP:20220110T190000
DTSTART:20220110T190000
DTEND:20220118T190000
SUMMARY:January Consignment Auction - Part 2
LOCATION:770 Cornell Road\, Rocky Mount\, VA 24151\, US
DESCRIPTION:January Consignment Auction - Part 2  Bidding Opens - Monda
 y\, January 10th at 7PM Bidding Closes - EXTENDED DUE TO WEA
 THER - Tuesday\, January 18th beginning at 7PM Preview - Tues
 day\, January 18th from 2PM till 5:30PM Removal/Pick-up - Wed
 nesday\, January 19th from 10AM till 5:30PM Please Note: All 
 items are sold as-is and where-is with no warranty expressed
  or implied. A 15% buyer premium applies to all purchases\, a
 s does VA sales tax. Receive a 3% discount off the premium b
 y paying with cash or GOOD check. 
URL:https://www.luckydogauction.com/auctions/detail/bw74457
SEQUENCE:1
END:VEVENT
END:VCALENDAR