BEGIN:VCALENDAR
VERSION:2.0
PRODID:-//ExpressionEngine Easy iCalendar plugin//NONSGML v2.0.1//EN
X-WR-TIMEZONE:America/New_York
X-WR-CALNAME:Upcoming Auctions
BEGIN:VEVENT
UID:75280
DTSTAMP:20220124T210000
DTSTART:20220124T210000
DTEND:20220127T190000
SUMMARY:February Treasure Auction
LOCATION:770 Cornell Rd\, Rocky Mount\, VA 24151\, US
DESCRIPTION:February Treasure Auction Bidding Opens - Monday\, January 24
 th at 9PM Bidding Closes - Thursday\, January 27th beginning 
 at 7PM Preview/Open-House - Thursday\, January 27th from 2PM 
 till 5PM Pickup/Removal - Friday\, January 28th from 10AM til
 l 5PM Please Note: All items are sold as-is and where-is wit
 h no warranty expressed or implied. A 15% buyer premium appl
 ies to all purchases\, as does VA sales tax. 
URL:https://www.luckydogauction.com/auctions/detail/bw75280
SEQUENCE:1
END:VEVENT
END:VCALENDAR