BEGIN:VCALENDAR
VERSION:2.0
PRODID:-//ExpressionEngine Easy iCalendar plugin//NONSGML v2.0.1//EN
X-WR-TIMEZONE:America/New_York
X-WR-CALNAME:Upcoming Auctions
BEGIN:VEVENT
UID:75541
DTSTAMP:20220131T100000
DTSTART:20220131T100000
DTEND:20220203T190000
SUMMARY:February Consignment Auction
LOCATION:770 Cornell Road\, Rocky Mount\, VA 24151\, US
DESCRIPTION:February Consignment Auction Bidding Opens - Monday\, January
  31st at 10AM Bidding Closes - Thursday\, February 3rd beginn
 ing at 7PM Preview/Open-House - Thursday\, February 3rd from 
 2PM till 5:30PM Mandatory Pickup/Removal - Friday\, February 
 4th from 10AM till 5:30PM Please Note: All items are sold as
 -is and where-is with no warranty expressed or implied. A 15
 % buyer premium applies to all purchases\, as does VA sales t
 ax. Receive a 3% discount off the premium by paying with cas
 h or GOOD check. 
URL:https://www.luckydogauction.com/auctions/detail/bw75541
SEQUENCE:1
END:VEVENT
END:VCALENDAR