BEGIN:VCALENDAR
VERSION:2.0
PRODID:-//ExpressionEngine Easy iCalendar plugin//NONSGML v2.0.1//EN
X-WR-TIMEZONE:America/New_York
X-WR-CALNAME:Upcoming Auctions
BEGIN:VEVENT
UID:75799
DTSTAMP:20220204T190000
DTSTART:20220204T190000
DTEND:20220211T190000
SUMMARY:Thomason Estate Auction
LOCATION:770 Cornell Road\, Rocky Mount\, VA 24151\, US
DESCRIPTION:Thomason Estate Auction Bidding Opens - Friday\, February 4th
  at 7PM Bidding Closes - Friday\, February 11th beginning at 
 7PM  Preview/Open-House - Friday\, February 11th from 2PM ti
 ll 5:30PM  Pickup/Removal - Monday\, February 14th from 10AM
  till 5:30PM Please Note: All items are sold AS-IS and WHERE
 -IS with no warranty expressed or implied. No guarantees and
  no refunds. A 15% buyer premium applies to all purchases as
  does VA sales tax. Receive a 3% discount off the premium by
  paying with cash or GOOD check. All sales are final. 
URL:https://www.luckydogauction.com/auctions/detail/bw75799
SEQUENCE:1
END:VEVENT
END:VCALENDAR