BEGIN:VCALENDAR
VERSION:2.0
PRODID:-//ExpressionEngine Easy iCalendar plugin//NONSGML v2.0.1//EN
X-WR-TIMEZONE:America/New_York
X-WR-CALNAME:Upcoming Auctions
BEGIN:VEVENT
UID:75853
DTSTAMP:20220207T110000
DTSTART:20220207T110000
DTEND:20220213T190000
SUMMARY:289 Boxwood Green Downsizing
LOCATION:289 Boxwood Green Drive\, Wirtz\, VA 24184\, US
DESCRIPTION:289 Boxwood Green Drive Downsizing Auction Bidding Opens - M
 onday\, Feb 7th at 10AM Bidding Closes - Sunday\, Feb 13th at 
 7PM Preview/Open-House - Sunday\, Feb 13th from 2PM till 4PM 
 at 289 Boxwood Green Drive Wirtz\, VA 24184 Pickup/Removal - 
 Monday\, Feb 14th from 10AM till 6PM If you can't make the ab
 ove scheduled pickup time\, we ask that you please not bid. T
 his is the ONLY pickup date/time. If you don't show to remov
 e your items\, your card will be charged\, your item(s) forfei
 ted and you will be blocked from future auctions. We don't w
 ant to sounds mean or hateful but\, these items need to be re
 moved due to seller circumstances that are beyond our contro
 l. 
URL:https://www.luckydogauction.com/auctions/detail/bw75853
SEQUENCE:1
END:VEVENT
END:VCALENDAR