BEGIN:VCALENDAR
VERSION:2.0
PRODID:-//ExpressionEngine Easy iCalendar plugin//NONSGML v2.0.1//EN
X-WR-TIMEZONE:America/New_York
X-WR-CALNAME:Upcoming Auctions
BEGIN:VEVENT
UID:75875
DTSTAMP:20220318T190000
DTSTART:20220318T190000
DTEND:20220330T190000
SUMMARY:March 2nd Amendment Auction
LOCATION:770 Cornell Rd\, Rocky Mount\, VA 24151\, US
DESCRIPTION:March 2nd Amendment Auction  Bidding Opens - Friday\, March 
 18th at 7PM Bidding Closes - Wednesday\, March 30th beginning
  at 7PM  Preview/Open-House - Wednesday\, March 30th from 10
 AM till 6PM Pickup/Removal - Thursday\, March 31st from 10AM 
 till 6PM  Please Note: All items are sold AS-IS and WHERE-I
 S with no warranty expressed or implied. Preview/Open-House 
 is highly encouraged so you can satisfy yourself of conditio
 n(s). A 15% buyer premium applies to all purchases\, as does 
 VA sales tax. We are a licensed federal firearms dealer\, all
  state and federal laws apply. 
URL:https://www.luckydogauction.com/auctions/detail/bw75875
SEQUENCE:1
END:VEVENT
END:VCALENDAR