BEGIN:VCALENDAR
VERSION:2.0
PRODID:-//ExpressionEngine Easy iCalendar plugin//NONSGML v2.0.1//EN
X-WR-TIMEZONE:America/New_York
X-WR-CALNAME:Upcoming Auctions
BEGIN:VEVENT
UID:76535
DTSTAMP:20220220T190000
DTSTART:20220220T190000
DTEND:20220224T190000
SUMMARY:February Treasure Auction -Part II
LOCATION:770 Cornell Rd\, Rocky Mount\, VA 24151\, US
DESCRIPTION:February Treasure Auction - Part II Bidding Opens - Sunday\, 
 February 20th at 7PM Bidding Closes - Thursday\, February 24t
 h beginning at 7PM Preview/Open-House - Thursday\, February 2
 4th from 2PM till 5:30PM Pickup/Removal - Friday\, February 2
 5th from 10AM till 5:30PM Please Note: All items are sold as
 -is and where-is with no warranty expressed or implied. A 15
 % buyer premium applies to all purchases as does VA sales ta
 x. Receive a 3% discount off the premium by paying with cash
  or good check. 
URL:https://www.luckydogauction.com/auctions/detail/bw76535
SEQUENCE:1
END:VEVENT
END:VCALENDAR