BEGIN:VCALENDAR
VERSION:2.0
PRODID:-//ExpressionEngine Easy iCalendar plugin//NONSGML v2.0.1//EN
X-WR-TIMEZONE:America/New_York
X-WR-CALNAME:Upcoming Auctions
BEGIN:VEVENT
UID:76886
DTSTAMP:20220228T190000
DTSTART:20220228T190000
DTEND:20220307T190000
SUMMARY:Sigmon Estate Auction
LOCATION:170 Knollwood Dr\, Rocky Mount\, VA 24151\, US
DESCRIPTION:Sigmon Estate Auction  Bidding Opens - Monday\, February 28t
 h beginning at 7PM Bidding Closes - Monday\, March 7th starti
 ng at 7PM  Preview/Open-House - Monday\, March 7th from 2PM 
 till 5:30PM at 170 Knollwood Drive Rocky Mount\, VA 24151 Pic
 kup/Removal - Tuesday\, March 8th from 10AM till 5:30PM Pleas
 e Note: All items are sold as-is and where-is with no warran
 ty expressed or implied. A 15% buyer premium applies to all 
 purchases\, as does VA sales tax. Receive a 3% discount off t
 he buyer premium by paying with cash or good check. Preview 
 is highly encouraged to satisfy yourself of condition prior 
 to bidding. 
URL:https://www.luckydogauction.com/auctions/detail/bw76886
SEQUENCE:1
END:VEVENT
END:VCALENDAR