BEGIN:VCALENDAR
VERSION:2.0
PRODID:-//ExpressionEngine Easy iCalendar plugin//NONSGML v2.0.1//EN
X-WR-TIMEZONE:America/New_York
X-WR-CALNAME:Upcoming Auctions
BEGIN:VEVENT
UID:77325
DTSTAMP:20220305T190000
DTSTART:20220305T190000
DTEND:20220310T190000
SUMMARY:Salem Downsizing Auction
LOCATION:770 Cornell Rd\, Rocky Mount\, VA 24151\, US
DESCRIPTION:Salem Downsizing Auction Bidding Opens - Saturday\, March 5th
  at 7PM Bidding Closes - Thursday\, March 10th beginning at 7
 PM Preview/Open-House - Thursday\, March 10th from 2PM till 5
 :30PM Pickup/Removal - Friday\, March 11th from 10AM till 5:3
 0PM Please Note: All items are sold as-is and where-is with 
 no warranty expressed or implied. A 15% buyer premium applie
 s to all purchases\, as does VA sales tax. Receive a 3% disco
 unt off the premium by paying with cash or good check. All s
 ales are final. 
URL:https://www.luckydogauction.com/auctions/detail/bw77325
SEQUENCE:1
END:VEVENT
END:VCALENDAR