BEGIN:VCALENDAR
VERSION:2.0
PRODID:-//ExpressionEngine Easy iCalendar plugin//NONSGML v2.0.1//EN
X-WR-TIMEZONE:America/New_York
X-WR-CALNAME:Upcoming Auctions
BEGIN:VEVENT
UID:77508
DTSTAMP:20220317T170000
DTSTART:20220317T170000
DTEND:20220324T190000
SUMMARY:March Liquidation Auction
LOCATION:770 Cornell Road\, Rocky Mount\, VA 24151\, US
DESCRIPTION:March Liquidation Auction Our shop is FULL and all these ite
 ms must go! You name the price on nearly 500 items! Please n
 ote the important details below: Bidding Opens - Thursday\, M
 arch 17th at 5PM Bidding Closes - Thursday\, March 24th begin
 ning at 7PM Preview/Open-House - Thursday\, March 24th from 2
 PM till 5:30PM Removal/Pickup - Friday\, March 25th from 10AM
  till 5:30PM  All items are sold AS-IS and WHERE-IS with no
  warranty expressed or implied. A 15% buyer premium applies 
 to all purchases\, as does VA sales tax. Receive a 3% discoun
 t off the premium by paying with cash or good check. All sal
 es are final. 
URL:https://www.luckydogauction.com/auctions/detail/bw77508
SEQUENCE:1
END:VEVENT
END:VCALENDAR