BEGIN:VCALENDAR
VERSION:2.0
PRODID:-//ExpressionEngine Easy iCalendar plugin//NONSGML v2.0.1//EN
X-WR-TIMEZONE:America/New_York
X-WR-CALNAME:Upcoming Auctions
BEGIN:VEVENT
UID:78184
DTSTAMP:20220327T190000
DTSTART:20220327T190000
DTEND:20220404T190000
SUMMARY:70 Belmont Drive Downsizing Auction
LOCATION:70 Belmont Drive\, Rocky Mount\, VA 24151\, US
DESCRIPTION:70 Belmont Drive Liquidation Auction House has been sold and
  all contents must go! Mandatory pickup time/date is listed 
 below. If you can't make it\, please do not bid. This is the 
 ONLY pickup date/time available.  Bidding Opens - Sunday\, M
 arch 27th at 7PM Bidding Closes - Monday\, April 4th beginnin
 g at 7PM Preview/Open-House - Monday\, April 4th from 2PM til
 l 5:30PM at 70 Belmont Drive\, Rocky Mount\, VA 24151 Mandator
 y Pickup/Removal - Tuesday\, April 5th from 10AM till 5:30PM 
 at 70 Belmont Drive\, Rocky Mount\, VA 24151 - Bring Help To L
 oad!  Please Note: All items are sold as-is and where-is wi
 th no warranty expressed or implied. A 15% buyer premium app
 lies to all purchases\, as does VA sales tax. Receive a 3% di
 scount off the premium by paying with cash or good check. 
URL:https://www.luckydogauction.com/auctions/detail/bw78184
SEQUENCE:1
END:VEVENT
END:VCALENDAR