BEGIN:VCALENDAR
VERSION:2.0
PRODID:-//ExpressionEngine Easy iCalendar plugin//NONSGML v2.0.1//EN
X-WR-TIMEZONE:America/New_York
X-WR-CALNAME:Upcoming Auctions
BEGIN:VEVENT
UID:78598
DTSTAMP:20220401T190000
DTSTART:20220401T190000
DTEND:20220407T190000
SUMMARY:April Consignment Auction - Part 1
LOCATION:770 Cornell Rd\, 770 Cornell Rd\, Rocky Mount\, VA 24151\, US
DESCRIPTION:April Consignment Auction - Part 1  Bidding Opens - Friday\,
  April 1st at 7PM Bidding Closes - Thursday\, April 7th begin
 ning at 7PM Preview - Thursday\, April 7th from 2PM till 5:30
 PM Pickup/Removal - Friday\, April 8th from 10AM till 5:30PM 
 at 770 Cornell Road Rocky Mount\, VA 24151  Please Note: All
  items are sold AS-IS and WHERE-IS with no warranty expresse
 d or implied. A 15% buyer premium applies to all purchases\, 
 as does VA sales tax. Receive a 3% discount off the premium 
 by paying with cash or good check. All sales are final. 
URL:https://www.luckydogauction.com/auctions/detail/bw78598
SEQUENCE:1
END:VEVENT
END:VCALENDAR