BEGIN:VCALENDAR
VERSION:2.0
PRODID:-//ExpressionEngine Easy iCalendar plugin//NONSGML v2.0.1//EN
X-WR-TIMEZONE:America/New_York
X-WR-CALNAME:Upcoming Auctions
BEGIN:VEVENT
UID:78824
DTSTAMP:20220403T190000
DTSTART:20220403T190000
DTEND:20220410T190000
SUMMARY:1469 Brick Church Road Downsizing Auction
LOCATION:1469 Brick Church Rd\, 1469 Brick Church Rd\, Rocky Mount\, VA 
 241515\, US
DESCRIPTION:1469 Brick Church Road Downsizing Auction Bidding Opens - Su
 nday\, April 3rd at 7PM Bidding Closes - Sunday\, April 10th b
 eginning at 7PM Preview/Open-House - Saturday\, April 9th fro
 m 9AM till 11AM at 1469 Brick Church Rd Rocky Mount\, VA 2415
 1 Pickup/Removal - BRING HELP TO LOAD! Monday\, April 11th fr
 om 10AM till 5:30PM at 1469 Brick Church Rd Rocky Mount\, VA 
 24151 Please Note: All items are sold as-is and where-is wit
 h no warranty expressed or implied. A 15% buyer premium appl
 ies to all purchases\, as does VA sales tax. Receive a 3% dis
 count off the premium by paying with cash or good check. 
URL:https://www.luckydogauction.com/auctions/detail/bw78824
SEQUENCE:1
END:VEVENT
END:VCALENDAR