BEGIN:VCALENDAR
VERSION:2.0
PRODID:-//ExpressionEngine Easy iCalendar plugin//NONSGML v2.0.1//EN
X-WR-TIMEZONE:America/New_York
X-WR-CALNAME:Upcoming Auctions
BEGIN:VEVENT
UID:79209
DTSTAMP:20220411T190000
DTSTART:20220411T190000
DTEND:20220418T190000
SUMMARY:April Consignment Auction - Part 2
LOCATION:770 Cornell Rd\, 770 Cornell Rd\, Rocky Mount\, VA 24151\, US
DESCRIPTION:April Consignment Auction - Part 2  Bidding Opens - Monday\,
  April 11th at 7PM Bidding Closes - Monday\, April 18th begin
 ning at 7PM Preview/Open-House - Monday\, April 18th from 2PM
  till 5:30PM Pickup/Removal - Tuesday\, April 19th from 10AM 
 till 5:30PM Please Note: All items are sold AS-IS and WHERE-
 IS with no warranty expressed or implied. Lucky Dog Auction 
 is a licensed FFL firearms dealer. A 15% buyer premium is ap
 plied to all purchases\, as is Virginia sales tax. Receive a 
 3% discount off the buyer premium by paying with cash or goo
 d check. 
URL:https://www.luckydogauction.com/auctions/detail/bw79209
SEQUENCE:1
END:VEVENT
END:VCALENDAR