BEGIN:VCALENDAR
VERSION:2.0
PRODID:-//ExpressionEngine Easy iCalendar plugin//NONSGML v2.0.1//EN
X-WR-TIMEZONE:America/New_York
X-WR-CALNAME:Upcoming Auctions
BEGIN:VEVENT
UID:79219
DTSTAMP:20220419T190000
DTSTART:20220419T190000
DTEND:20220428T190000
SUMMARY:April Coin & Currency Auction
LOCATION:770 Cornell Road\, Rocky Mount\, VA 24151\, US
DESCRIPTION:April Coin & Currency Auction Bidding Closes - Wednesday\, Ap
 ril 27th beginning at 7PM Pickup/Removal - Thursday\, April 2
 8th from 10AM till 5PM 
URL:https://www.luckydogauction.com/auctions/detail/bw79219
SEQUENCE:1
END:VEVENT
END:VCALENDAR