BEGIN:VCALENDAR
VERSION:2.0
PRODID:-//ExpressionEngine Easy iCalendar plugin//NONSGML v2.0.1//EN
X-WR-TIMEZONE:America/New_York
X-WR-CALNAME:Upcoming Auctions
BEGIN:VEVENT
UID:79527
DTSTAMP:20220415T190000
DTSTART:20220415T190000
DTEND:20220421T190000
SUMMARY:Spring Fling Auction
LOCATION:770 Cornell Road\, Rocky Mount\, VA 24151\, US
DESCRIPTION:Spring Fling Auction  Bidding Opens - Friday\, April 15th at
  7PM Bidding Closes - Thursday\, April 21st beginning at 7PM 
 Preview/Open-House - Thursday\, April 21st from 2PM till 5:30
 PM Pickup/Removal - Friday\, April 22nd from 10AM till 5:30PM
   Please Note: All items are sold AS-IS and WHERE-IS with n
 o warranty expressed or implied. A 15% buyer premium applies
  to all purchases\, as does VA sales tax. All sales are final
 . 
URL:https://www.luckydogauction.com/auctions/detail/bw79527
SEQUENCE:1
END:VEVENT
END:VCALENDAR