BEGIN:VCALENDAR
VERSION:2.0
PRODID:-//ExpressionEngine Easy iCalendar plugin//NONSGML v2.0.1//EN
X-WR-TIMEZONE:America/New_York
X-WR-CALNAME:Upcoming Auctions
BEGIN:VEVENT
UID:79577
DTSTAMP:20220418T190000
DTSTART:20220418T190000
DTEND:20220501T190000
SUMMARY:April 2nd Amendment Auction
LOCATION:770 Cornell Road\, Rocky Mount\, VA 24151\, US
DESCRIPTION:April 2nd Amendment Auction  Bidding Opens - Monday\, April 
 18th at 7PM Bidding Closes - Sunday\, May 1st beginning at 7P
 M Preview/Open-House - Saturday\, April 30th from 9AM till No
 on Pickup/Removal - Monday\, May 2nd from 9AM till 5:30PM at 
 Lucky Dog Auction & Realty Please Note: Lucky Dog Auction is
  a licensed FFL Dealer. All state and federal laws apply. Al
 l items are sold as-is and where-is. $2 state transfer fee p
 er gun. Background checks apply. 15% buyer premium applies t
 o all purchases as does VA sales tax. Receive a 3% discount 
 off the premium by paying with cash or good check. 
URL:https://www.luckydogauction.com/auctions/detail/bw79577
SEQUENCE:1
END:VEVENT
END:VCALENDAR