BEGIN:VCALENDAR
VERSION:2.0
PRODID:-//ExpressionEngine Easy iCalendar plugin//NONSGML v2.0.1//EN
X-WR-TIMEZONE:America/New_York
X-WR-CALNAME:Upcoming Auctions
BEGIN:VEVENT
UID:79762
DTSTAMP:20220427T190000
DTSTART:20220427T190000
DTEND:20220511T190000
SUMMARY:May Equipment Auction
LOCATION:770 Cornell Road\, Rocky Mount\, VA 24151\, US
DESCRIPTION:May Equipment Auction Bidding Opens - Wednesday\, April 27th 
 at 7PM Bidding Closes - Wednesday\, May 11th beginning at 7PM
  Preview/Open-House - Wednesday\, May 11th from 9AM till 5:30
 PM Pickup/Removal - Thursday\, May 12th from 9AM till 5:30PMĀ
   Please Note: All items are sold as-is and where-is with no
  warranty expressed or implied. There is a 15% buyer premium
  that will be applied to all purchases\, as will VA sales tax
 . Receive a 3% discount off the premium by paying with cash 
 or good check. All sales are final. Preview is high encourag
 ed!Ā 
URL:https://www.luckydogauction.com/auctions/detail/bw79762
SEQUENCE:1
END:VEVENT
END:VCALENDAR