BEGIN:VCALENDAR
VERSION:2.0
PRODID:-//ExpressionEngine Easy iCalendar plugin//NONSGML v2.0.1//EN
X-WR-TIMEZONE:America/New_York
X-WR-CALNAME:Upcoming Auctions
BEGIN:VEVENT
UID:80161
DTSTAMP:20220427T190000
DTSTART:20220427T190000
DTEND:20220504T190000
SUMMARY:April Liquidation Auction
LOCATION:770 Cornell Road\, Rocky Mount\, VA 24151\, US
DESCRIPTION:April Liquidation Auction  Bidding Opens - Wednesday\, April
  27th at 7PM Bidding Closes - Wednesday\, May 4th beginning a
 t 7PM Preview/Open-House - Wednesday\, May 4th from 2PM till 
 5:30PM Mandatory Pickup/Removal - Thursday\, May 5th from 10A
 M till 5:30PM Please Note: All items are sold as-is and wher
 e-is with no warranty expressed or implied. A 15% buyer prem
 ium applies to all purchases\, as does VA sales tax. Receive 
 a 3% discount off the premium buy paying with cash or good c
 heck. Please come pickup your items at the scheduled pickup 
 times. 
URL:https://www.luckydogauction.com/auctions/detail/bw80161
SEQUENCE:1
END:VEVENT
END:VCALENDAR