BEGIN:VCALENDAR
VERSION:2.0
PRODID:-//ExpressionEngine Easy iCalendar plugin//NONSGML v2.0.1//EN
X-WR-TIMEZONE:America/New_York
X-WR-CALNAME:Upcoming Auctions
BEGIN:VEVENT
UID:80458
DTSTAMP:20220503T120000
DTSTART:20220503T120000
DTEND:20220509T190000
SUMMARY:Morris Estate Auction
LOCATION:62 Bernard Road\, Franklin Heights\, Rocky Mount\, VA 24151\, US
DESCRIPTION:Morris Estate Auction Bidding Opens - Tuesday\, May 3rd at N
 OON Bidding Closes - Monday\, May 9th beginning at 7PM Previ
 ew/Open House - Monday\,  May 9th from 3PM-5PM at 62 Bernard
  Road Rocky Mount\,  VA 24151 Mandatory Pickup/ Removal - Tu
 esday\, May 10th From NOON till 5:30 PM Please Note: All item
 s are sold as-is and where-is with no warranty expressed or 
 implied. A 15% buyer premium applies to all purchases as doe
 s VA sales tax. Receive a 3% discount off the premium by pay
 ing with cash or good check. All sales are final. Please bri
 ng help to load! 
URL:https://www.luckydogauction.com/auctions/detail/bw80458
SEQUENCE:1
END:VEVENT
END:VCALENDAR