BEGIN:VCALENDAR
VERSION:2.0
PRODID:-//ExpressionEngine Easy iCalendar plugin//NONSGML v2.0.1//EN
X-WR-TIMEZONE:America/New_York
X-WR-CALNAME:Upcoming Auctions
BEGIN:VEVENT
UID:80657
DTSTAMP:20220506T120000
DTSTART:20220506T120000
DTEND:20220513T190000
SUMMARY:2192 Lake Retreat Rd Downsizing Auction
LOCATION:2192 Lake Retreat Rd\, Huddleston\, VA 24104\, US
DESCRIPTION:SML/Huddleston Onsite Downsizing Auction Quality items from
  a beautiful home located in Mariners Landing. Please note t
 he important terms below: Preview and Removal Address - 2192
  Lake Retreat Road Huddleston\, VA 24104 Bidding Opens - Frid
 ay\, May 6th at NOON Bidding Closes - Friday\, May 13th beginn
 ing at 7PM Preview/Inspection - Friday\, May 13th from 2PM ti
 ll 5:30PM at 2192 Lake Retreat Rd\, Huddleston\, VA 24014 Mand
 atory Pickup/Removal - Saturday\, May 14th from 10AM till 2PM
  at 2192 Lake Retreat Rd\, Huddleston\, VA 24014 - This is the
  only removal date and only times available. If you don't co
 me to the pickup\, your card will be charged and your items w
 ill be forfeited. If card is declined\, bidder will be blocke
 d from all future auctions. Please only bid if you can make 
 the pickup.  Please Note: All items are sold as-is and wher
 e-is with no warranty expressed or implied. A 15% buyer prem
 ium applies to all purchases\, as does VA sales tax. Receive 
 a 3% discount off the premium by paying with cash or good ch
 eck. Please bring help to load furniture or many items\, buye
 rs are responsible for moving. Please bring help! 
URL:https://www.luckydogauction.com/auctions/detail/bw80657
SEQUENCE:1
END:VEVENT
END:VCALENDAR