BEGIN:VCALENDAR
VERSION:2.0
PRODID:-//ExpressionEngine Easy iCalendar plugin//NONSGML v2.0.1//EN
X-WR-TIMEZONE:America/New_York
X-WR-CALNAME:Upcoming Auctions
BEGIN:VEVENT
UID:81184
DTSTAMP:20220516T140000
DTSTART:20220516T140000
DTEND:20220523T190000
SUMMARY:May Consignment Auction
LOCATION:770 Cornell Rd\, Rocky Mount\, VA 24151\, US
DESCRIPTION:May Consignment Auction Bidding Opens: Monday\, May 16th at 
 2:00pm Preview/Open House:  Monday\, May 23rd from 2-5:30pm 
 Bidding Closes/Ends:  Monday\, May 23rd at 7pm Pick-up/Remov
 al: Tuesday\, May 24th from 10am-5:30pm Please Note: All item
 s are sold as-is and where-is with no warranty expressed or 
 implied. There is a 15% buyer premium that will be applied t
 o all purchases\, as will VA sales tax. Receive a 3% discount
  off the premium by paying with cash or good check. All sale
 s are final. Preview is high encouraged! Please bring help t
 o load your items on Pickup day! Also\, bring boxes for multi
 ple items. Happy Bidding!
URL:https://www.luckydogauction.com/auctions/detail/bw81184
SEQUENCE:1
END:VEVENT
END:VCALENDAR