BEGIN:VCALENDAR
VERSION:2.0
PRODID:-//ExpressionEngine Easy iCalendar plugin//NONSGML v2.0.1//EN
X-WR-TIMEZONE:America/New_York
X-WR-CALNAME:Upcoming Auctions
BEGIN:VEVENT
UID:81589
DTSTAMP:20220520T190000
DTSTART:20220520T190000
DTEND:20220602T190000
SUMMARY:June 2nd Amendment Auction
LOCATION:770 Cornell Rd\, Rocky Mount\, VA 24151\, US
DESCRIPTION:June 2nd Amendment Auction Bidding Opens - Friday\, May 20th 
 at 7PM Bidding Closes - Thursday\, June 2nd at 7PM Preview/Op
 en-House - Thursday\, June 2nd from 10AM till 5:30PM Pickup/R
 emoval - Friday\, June 3rd from 10AM till 5:30PM We are a FFL
  dealer. All state and federal laws apply. Background checks
  are required.  Please Note: All items are sold as-is and w
 here-is with no warranty expressed or implied. A 15% buyer p
 remium applies to all purchase\, as does VA sales tax. Receiv
 e a 3% discount off the premium by paying with cash or good 
 check. Preview is highly encouraged so you can satisfy yours
 elf of condition prior to bidding. 
URL:https://www.luckydogauction.com/auctions/detail/bw81589
SEQUENCE:1
END:VEVENT
END:VCALENDAR