BEGIN:VCALENDAR
VERSION:2.0
PRODID:-//ExpressionEngine Easy iCalendar plugin//NONSGML v2.0.1//EN
X-WR-TIMEZONE:America/New_York
X-WR-CALNAME:Upcoming Auctions
BEGIN:VEVENT
UID:81902
DTSTAMP:20220525T190000
DTSTART:20220525T190000
DTEND:20220609T190000
SUMMARY:5247 Summer Drive Estate Auction
LOCATION:5247 Summer Drive\, Roanoke\, VA 24019\, US
DESCRIPTION:5247 Summer Drive Estate Auction  This auction is an on-sit
 e auction at 5247 Summer Drive Roanoke\, VA 24019. The below 
 dates are very important. We only have one pickup/removal da
 te\, if you can't make it please do not bid. If you don't com
 e pickup your items\, your card will be charged and your item
 s will be forfeited. We will not be able to move your items 
 back to our shop. Please bring help to move\, action staff wi
 ll not be able to assist with moving/loading.  Bidding Open
 s - Wednesday\, May 25th at 7PM  Bidding Closes - Thursday\, 
 June 9th beginning at 7PM Preview/Open-House - Thursday\, Jun
 e 9th from 2PM till 5:30PM Mandatory Removal/Pickup - Friday
 \, June 10th from 10AM till 6PM at 5247 Summer Drive Roanoke 
 VA\, 24019 Please Note: All items are sold as-is and where-is
  with no warranty expressed or implied. There is a 15% buyer
  premium that applies to all purchases\, as does VA sales tax
 . Receive a 3% discount off the premium by paying with cash 
 or good check. Please bring help to load! 
URL:https://www.luckydogauction.com/auctions/detail/bw81902
SEQUENCE:1
END:VEVENT
END:VCALENDAR