BEGIN:VCALENDAR
VERSION:2.0
PRODID:-//ExpressionEngine Easy iCalendar plugin//NONSGML v2.0.1//EN
X-WR-TIMEZONE:America/New_York
X-WR-CALNAME:Upcoming Auctions
BEGIN:VEVENT
UID:82308
DTSTAMP:20220605T140000
DTSTART:20220605T140000
DTEND:20220612T190000
SUMMARY:June Consignment Auction
LOCATION:770 Cornell Road\, Rocky Mount\, VA 24151\, US
DESCRIPTION:June Consignment Auction Bidding Opens:  Sunday\, June 5th a
 t 2pm Bidding Closes:  Sunday\, June 12th at 7pm Preview:  
 Friday\, June 10 from 2pm-5:30pm Removal/ Pickup:  Monday\, J
 une 13th 10am till 5:30pm at 770 Cornell Road * Please Note:
  All items are sold as-is and where-is with no warranty expr
 essed or implied. There is a 15% buyer premium that will be 
 applied to all purchases\, as will VA sales tax. Receive a 3%
  discount off the premium by paying with cash or good check.
  All sales are final. Preview is highly encouraged! Please b
 ring help to load your items on Pickup day! Also\, bring boxe
 s for multiple items. Happy Bidding!
URL:https://www.luckydogauction.com/auctions/detail/bw82308
SEQUENCE:1
END:VEVENT
END:VCALENDAR