BEGIN:VCALENDAR
VERSION:2.0
PRODID:-//ExpressionEngine Easy iCalendar plugin//NONSGML v2.0.1//EN
X-WR-TIMEZONE:America/New_York
X-WR-CALNAME:Upcoming Auctions
BEGIN:VEVENT
UID:82378
DTSTAMP:20220605T140000
DTSTART:20220605T140000
DTEND:20220620T190000
SUMMARY:Matthews Estate Coin Auction
LOCATION:770 Cornell Road\, Rocky Mount\, VA 24151\, US
DESCRIPTION:Matthews Estate Coin Auction Bidding Opens:  Sunday\, June 5
 th at 2:00PM Preview: Monday\, June 20th at 2PM-5PM Bidding C
 loses:  Monday\, June 20th at 7PM Removal/Pick Up:  Tuesday
 \, June 21st 10AM until 5:30PM Please Note: All items are so
 ld AS-IS and WHERE-IS with no warranty expressed or implied.
  A 15% buyer premium applies to all purchases\, as does VA sa
 les tax. All sales are final. 
URL:https://www.luckydogauction.com/auctions/detail/bw82378
SEQUENCE:1
END:VEVENT
END:VCALENDAR