BEGIN:VCALENDAR
VERSION:2.0
PRODID:-//ExpressionEngine Easy iCalendar plugin//NONSGML v2.0.1//EN
X-WR-TIMEZONE:America/New_York
X-WR-CALNAME:Upcoming Auctions
BEGIN:VEVENT
UID:82547
DTSTAMP:20220607T170000
DTSTART:20220607T170000
DTEND:20220619T190000
SUMMARY:364 Claybrook Road Estate Auction
LOCATION:364 Claybrook Road\, Rocky Mount\, VA 24151\, US
DESCRIPTION:364 Claybrook Road Estate Auction  Bidding Opens:  Sunday\,
  June 5th at 4PM Bidding Closes:  Sunday\, June 19th at 7PM 
 Preview/Open House:  Friday\, June 17th from 2PM till 5:30PM
  Removal/Pickup:  Monday\, June 20th 10AM-5:30PM * Please No
 te: All items are sold as-is and where-is with no warranty e
 xpressed or implied. There is a 15% buyer premium that will 
 be applied to all purchases\, as will VA sales tax. Receive a
  3% discount off the premium by paying with cash or good che
 ck. All sales are final. Preview is highly encouraged! Pleas
 e bring help to load your items on Pickup day! Also\, bring b
 oxes for multiple items. Happy Bidding!
URL:https://www.luckydogauction.com/auctions/detail/bw82547
SEQUENCE:1
END:VEVENT
END:VCALENDAR