BEGIN:VCALENDAR
VERSION:2.0
PRODID:-//ExpressionEngine Easy iCalendar plugin//NONSGML v2.0.1//EN
X-WR-TIMEZONE:America/New_York
X-WR-CALNAME:Upcoming Auctions
BEGIN:VEVENT
UID:82631
DTSTAMP:20220608T170000
DTSTART:20220608T170000
DTEND:20220621T190000
SUMMARY:Hardy Downsizing Auction
LOCATION:770 Cornell Road\, Rocky Mount\, VA 24151\, US
DESCRIPTION:Hardy Downsizing Auction Bidding Opens:  Wednesday\, June 8 
 at 5PM Preview/ Open House:  Tuesday\, June 21 at 2-5:30PM
  Sale Closes:  Tuesday\, June 21at 7PM Pick up/ Removal:  
 Wednesday\, June 22 at 10:00AM- 5:30PM Please Note: All item
 s are sold as-is and where-is with no warranty expressed or 
 implied. There is a 15% buyer premium that applies to all pu
 rchases\, as does VA sales tax. Receive a 3% discount off the
  premium by paying with cash or good check. Please bring hel
 p to load! 
URL:https://www.luckydogauction.com/auctions/detail/bw82631
SEQUENCE:1
END:VEVENT
END:VCALENDAR