BEGIN:VCALENDAR
VERSION:2.0
PRODID:-//ExpressionEngine Easy iCalendar plugin//NONSGML v2.0.1//EN
X-WR-TIMEZONE:America/New_York
X-WR-CALNAME:Upcoming Auctions
BEGIN:VEVENT
UID:83185
DTSTAMP:20220626T120000
DTSTART:20220626T120000
DTEND:20220714T190000
SUMMARY:July 2nd Amendment Auction
LOCATION:770 Cornell Road\, Rocky Mount\, VA 24151\, US
DESCRIPTION:July 2nd Amendment Auction Bidding Opens - Sunday\, June 26th
  at NOON Bidding Closes - Thursday\, July 14th beginning at 7
 PM Preview/Open-House - Thursday\, July 14th from 10AM till 5
 :30PM at 770 Cornell Rd Rocky Mount\, VA 24151 Pickup/Removal
  - Friday\, July 15th from 10AM till 5:30PM Please Note: Luck
 y Dog Auction is a licensed FFL dealer. All state and federa
 l laws apply. Background checks required. A 15% buyer premiu
 m applies to all purchases\, as does VA sales tax. Receive a 
 3% discount off the premium by paying with cash or good chec
 k. 
URL:https://www.luckydogauction.com/auctions/detail/bw83185
SEQUENCE:1
END:VEVENT
END:VCALENDAR