BEGIN:VCALENDAR
VERSION:2.0
PRODID:-//ExpressionEngine Easy iCalendar plugin//NONSGML v2.0.1//EN
X-WR-TIMEZONE:America/New_York
X-WR-CALNAME:Upcoming Auctions
BEGIN:VEVENT
UID:83479
DTSTAMP:20220624T190000
DTSTART:20220624T190000
DTEND:20220629T190000
SUMMARY:June Blowout Auction
LOCATION:770 Cornell Road\, Rocky Mount\, VA 24151\, US
DESCRIPTION:June Blowout Auction Bidding Opens - Friday\, June 24th at 7P
 M Bidding Closes - Wednesday\, June 29th at 7PM Preview/Open-
 House - Wednesday\, June 29th from 2PM till 5:30PM at Lucky D
 og Auction & Realty (770 Cornell Rd Rocky Mount\, VA 24151) P
 ickup/Removal - Thursday\, June 30th from 10AM till 5:30PM Pl
 ease Note: All items are sold as-is and where-is with no war
 ranty expressed or implied. There is a 15% buyer premium tha
 t applies to all purchases\, as does VA sales tax. Receive a 
 3% discount off the premium by paying with cash or good chec
 k. All items are sold as-is and where-is. Please bring help 
 to load! 
URL:https://www.luckydogauction.com/auctions/detail/bw83479
SEQUENCE:1
END:VEVENT
END:VCALENDAR