BEGIN:VCALENDAR
VERSION:2.0
PRODID:-//ExpressionEngine Easy iCalendar plugin//NONSGML v2.0.1//EN
X-WR-TIMEZONE:America/New_York
X-WR-CALNAME:Upcoming Auctions
BEGIN:VEVENT
UID:83489
DTSTAMP:20220624T190000
DTSTART:20220624T190000
DTEND:20220704T190000
SUMMARY:Ammo & Knife Auction
LOCATION:770 Cornell Road\, Rocky Mount\, VA 24151\, US
DESCRIPTION:Ammo & Knife Auction Bidding Opens - Friday\, June 24th at 7P
 M Bidding Closes - Monday\, July 4th beginning at 7PM Pickup/
 Removal - Tuesday\, July 5th from 10AM till 5:30PM at Lucky D
 og Auction & Realty (770 Cornell Rd Rocky Mount\, VA 24151  
 Preview/Open-House - Thursday\, June 30th from 2PM till 5:30P
 M    Please Note: All items are sold as-is and where-is wi
 th no warranty expressed or implied. There is a 15% buyer pr
 emium that applies to all purchases\, as does VA sales tax. R
 eceive a 3% discount off the premium by paying with cash or 
 good check. All items are sold as-is and where-is. Please br
 ing help to load! 
URL:https://www.luckydogauction.com/auctions/detail/bw83489
SEQUENCE:1
END:VEVENT
END:VCALENDAR