BEGIN:VCALENDAR
VERSION:2.0
PRODID:-//ExpressionEngine Easy iCalendar plugin//NONSGML v2.0.1//EN
X-WR-TIMEZONE:America/New_York
X-WR-CALNAME:Upcoming Auctions
BEGIN:VEVENT
UID:83493
DTSTAMP:20220704T190000
DTSTART:20220704T190000
DTEND:20220717T190000
SUMMARY:Summer Equipment Auction
LOCATION:770 Cornell Rd\, Rocky Mount\, VA 24151\, US
DESCRIPTION:Summer Equipment Auction - Items Still Being Added! Bidding 
 Opens - Monday\, July 4th at 7PM Bidding Closes - Sunday\, Jul
 y 17th beginning at 7PM Preview/Open-House - Saturday\, July 
 16th from 9AM till NOON at Lucky Dog Auction & Realty (770 C
 ornell Rd Rocky Mount\, VA 24151) Pickup/Removal - Monday\, Ju
 ly 18th from 10AM till 5:30PM Please Note: All items are sol
 d as-is and where-is with no warranty expressed or implied. 
 There is a 15% buyer premium that applies to all purchases\, 
 as does VA sales tax. Receive a 3% discount off the premium 
 by paying with cash or good check. All items are sold as-is 
 and where-is. Please bring help to load! 
URL:https://www.luckydogauction.com/auctions/detail/bw83493
SEQUENCE:1
END:VEVENT
END:VCALENDAR