BEGIN:VCALENDAR
VERSION:2.0
PRODID:-//ExpressionEngine Easy iCalendar plugin//NONSGML v2.0.1//EN
X-WR-TIMEZONE:America/New_York
X-WR-CALNAME:Upcoming Auctions
BEGIN:VEVENT
UID:83525
DTSTAMP:20220701T190000
DTSTART:20220701T190000
DTEND:20220707T190000
SUMMARY:Twelve O'Clock Knob Downsizing Auction
LOCATION:770 Cornell Road\, Rocky Mount\, VA 24151\, US
DESCRIPTION:Twelve O'clock Knob Downsizing Auction Bidding Opens - Frid
 ay\, July 1st at 7PM Bidding Closes - Thursday\, July 7th begi
 nning at 7PM Preview/Open-House - Thursday\, July 7th from 2P
 M till 5:30PM at Lucky Dog Auction & Realty (770 Cornell Rd 
 Rocky Mount\, VA 24151)  Pickup/Removal - Friday\, July 8th f
 rom 10AM till 5:30PM - Please Bring Help To Load!  Please N
 ote: All items are sold as-is and where-is with no warranty 
 expressed or implied. There is a 15% buyer premium that appl
 ies to all purchases\, as does VA sales tax. Receive a 3% dis
 count off the premium by paying with cash or good check. All
  items are sold as-is and where-is. Please bring help to loa
 d! 
URL:https://www.luckydogauction.com/auctions/detail/bw83525
SEQUENCE:1
END:VEVENT
END:VCALENDAR