BEGIN:VCALENDAR
VERSION:2.0
PRODID:-//ExpressionEngine Easy iCalendar plugin//NONSGML v2.0.1//EN
X-WR-TIMEZONE:America/New_York
X-WR-CALNAME:Upcoming Auctions
BEGIN:VEVENT
UID:85341
DTSTAMP:20220808T190000
DTSTART:20220808T190000
DTEND:20220818T190000
SUMMARY:Matthews Estate Coin Auction - Part 2
LOCATION:770 Cornell Road\, Rocky Mount\, VA 24151\, US
DESCRIPTION:Matthews Estate Coin Auction - Part 2 Bidding Opens - Monday
 \, August 8th at 7PM Bidding Closes - Thursday\, August 18th b
 eginning at 7PM Preview/Open-House - Thursday\, August 18th f
 rom 2PM till 5PM Pickup/Removal - Friday\, August 19th from 1
 0AM till 5PM Please Note: All items are sold as-is and where
 -is with no warranty expressed or implied. A 15% buyer premi
 um applies to all purchases\, as does VA sales tax. Receive a
  3% discount off the premium by paying with cash or good che
 ck. 
URL:https://www.luckydogauction.com/auctions/detail/bw85341
SEQUENCE:1
END:VEVENT
END:VCALENDAR