BEGIN:VCALENDAR
VERSION:2.0
PRODID:-//ExpressionEngine Easy iCalendar plugin//NONSGML v2.0.1//EN
X-WR-TIMEZONE:America/New_York
X-WR-CALNAME:Upcoming Auctions
BEGIN:VEVENT
UID:85510
DTSTAMP:20220802T190000
DTSTART:20220802T190000
DTEND:20220815T190000
SUMMARY:August Tool Auction
LOCATION:770 Cornell Rd\, Rocky Mount\, VA 24151\, US
DESCRIPTION:August Tool Auction  Bidding Opens - Tuesday\, August 2nd at
  7PM Bidding Closes - Monday\, August 15th beginning at 7PM P
 review/Open-Houses - Monday\, August 15th from 2PM till 5:30P
 M Pickup/Removal - Tuesday\, August 16th from 10AM till 5:30P
 M Please Note: All items are sold as-is and where-is with no
  warranty expressed or implied. A 15% buyer premium applies 
 to all purchases\, as does VA sales tax. Receive a 3% discoun
 t off the premium by paying with cash or good check. 
URL:https://www.luckydogauction.com/auctions/detail/bw85510
SEQUENCE:1
END:VEVENT
END:VCALENDAR