BEGIN:VCALENDAR
VERSION:2.0
PRODID:-//ExpressionEngine Easy iCalendar plugin//NONSGML v2.0.1//EN
X-WR-TIMEZONE:America/New_York
X-WR-CALNAME:Upcoming Auctions
BEGIN:VEVENT
UID:86057
DTSTAMP:20220810T190000
DTSTART:20220810T190000
DTEND:20220817T190000
SUMMARY:August Treasure Auction
LOCATION:770 Cornell Road\, Rocky Mount\, VA 24151\, US
DESCRIPTION:August Estate Auction Bidding Opens - Wednesday\, August 10t
 h beginning at 7PM Bidding Closes - Wednesday\, August 17th 
 beginning at 7PM Preview/Open-Houses - Wednesday\, August 17
 th from 2 till 5:30PM Pickup/Removal - Thursday\, August 18t
 h from 10AM till 5:30PM Please Note: All items are sold as-
 is and where-is with no warranty expressed or implied. A 15%
  buyer premium applies to all purchases\, as does VA sales ta
 x. Receive a 3% discount off the premium by paying with cash
  or good check. 
URL:https://www.luckydogauction.com/auctions/detail/bw86057
SEQUENCE:1
END:VEVENT
END:VCALENDAR