BEGIN:VCALENDAR
VERSION:2.0
PRODID:-//ExpressionEngine Easy iCalendar plugin//NONSGML v2.0.1//EN
X-WR-TIMEZONE:America/New_York
X-WR-CALNAME:Upcoming Auctions
BEGIN:VEVENT
UID:86185
DTSTAMP:20220811T190000
DTSTART:20220811T190000
DTEND:20220822T190000
SUMMARY:August Knife & Ammo Auction
LOCATION:770 Cornell Road\, Rocky Mount\, VA 24151\, US
DESCRIPTION:August Knife & Ammo Auction Bidding Opens - Thursday\, August
  11th at 7PM Bidding Closes - Monday\, August 22nd beginning 
 at 7PM Preview/Open-House - Monday\, August 22nd from 2PM til
 l 5PM at 770 Cornell Rd Rocky Mount\, VA 24151 Removal/Pickup
  - Tuesday\, August 23rd from 10AM till 5:30PM Please Note: A
 ll items are sold as-is and where-is with no warranty expres
 sed or implied. 15% buyer premium applies to all purchases\, 
 as does VA sales tax. Receive a 3% discount off the premium 
 by paying with cash or good check. 
URL:https://www.luckydogauction.com/auctions/detail/bw86185
SEQUENCE:1
END:VEVENT
END:VCALENDAR