BEGIN:VCALENDAR
VERSION:2.0
PRODID:-//ExpressionEngine Easy iCalendar plugin//NONSGML v2.0.1//EN
X-WR-TIMEZONE:America/New_York
X-WR-CALNAME:Upcoming Auctions
BEGIN:VEVENT
UID:86226
DTSTAMP:20220926T190000
DTSTART:20220926T190000
DTEND:20221007T190000
SUMMARY:2nd Annual Fall Equipment Auction
LOCATION:770 Cornell Road\, Rocky Mount\, VA 24151\, US
DESCRIPTION:2nd Annual Fall Tool & Equipment Auction  Bidding Opens - M
 onday\, September 26th at 7PM Bidding Closes - Friday\, Octobe
 r 7th beginning at 7PM Preview/Open-House - Friday\, October 
 7th from 10AM till 6PM  Pickup/Removal - Saturday\, October 
 8th from 9AM till 4PM Please Note: All items are sold as-is 
 and where-is with no warranty expressed or implied. Please c
 ome to preview/open-house and inspect the items to your sati
 sifaction. A 15% buyer premium applies to all purchases\, as 
 does VA sales tax. Receive a 3% discount off the premium by 
 paying with cash or good check. 
URL:https://www.luckydogauction.com/auctions/detail/bw86226
SEQUENCE:1
END:VEVENT
END:VCALENDAR