BEGIN:VCALENDAR
VERSION:2.0
PRODID:-//ExpressionEngine Easy iCalendar plugin//NONSGML v2.0.1//EN
X-WR-TIMEZONE:America/New_York
X-WR-CALNAME:Upcoming Auctions
BEGIN:VEVENT
UID:87877
DTSTAMP:20220920T190000
DTSTART:20220920T190000
DTEND:20220926T190000
SUMMARY:Matthews Estate Coin Auction - Final Sale
LOCATION:770 Cornell Rd\, Rocky Mount\, VA 24151\, US
DESCRIPTION:Matthews Estate Coin Auction - Final Sale This auction will 
 complete the Matthews Estate Coin series. Please see auction
  dates/details below: Bidding Opens - Tuesday\, September 20t
 h at 7PM   Bidding Closes - Monday\, September 26th starting
  at 7PM Preview/Open-House - Monday\, September 26th from 2PM
  till 5PM at Lucky Dog (770 Cornell Rd Rocky Mount\, VA 24151
 ) Pickup/Removal - Tuesday\, September 27th from 10AM till 5P
 M Please Note: All items are sold as-is and where-is. All si
 lver and gold coins have been Sigma tested and verified. A 1
 5% buyer premium applies to all purchases\, as does VA sales 
 tax. Receive a 3% discount off the premium by paying with ca
 sh or good check. 
URL:https://www.luckydogauction.com/auctions/detail/bw87877
SEQUENCE:1
END:VEVENT
END:VCALENDAR