BEGIN:VCALENDAR
VERSION:2.0
PRODID:-//ExpressionEngine Easy iCalendar plugin//NONSGML v2.0.1//EN
X-WR-TIMEZONE:America/New_York
X-WR-CALNAME:Upcoming Auctions
BEGIN:VEVENT
UID:87878
DTSTAMP:20220829T190000
DTSTART:20220829T190000
DTEND:20220908T190000
SUMMARY:Gear & Ammo Auction
LOCATION:770 Cornell Road\, Rocky Mount\, VA 24151\, US
DESCRIPTION:Gear & Ammo Auction This is one that any true sportsman must
  see! 1000's of rounds of ammo! Bidding Opens - Monday\, Augu
 st 29th at 7PM Bidding Closes - Thursday\, September 8th star
 ting at 7PM Preview/Open-House - Thursday\, September 8th fro
 m 2PM till 5PM at Lucky Dog Auction & Realty (770 Cornell Rd
  Rocky Mount\, VA 24151) Pickup/Removal - Friday\, September 9
 th from 10AM till 5:30PM Please Note: All items are sold as-
 is and where-is with no warranty expressed or implied. A 15%
  buyer premium applies to all purchases\, as does VA sales ta
 x. Receive a 3% discount off the premium by paying with cash
  or good check. 
URL:https://www.luckydogauction.com/auctions/detail/bw87878
SEQUENCE:1
END:VEVENT
END:VCALENDAR