BEGIN:VCALENDAR
VERSION:2.0
PRODID:-//ExpressionEngine Easy iCalendar plugin//NONSGML v2.0.1//EN
X-WR-TIMEZONE:America/New_York
X-WR-CALNAME:Upcoming Auctions
BEGIN:VEVENT
UID:88650
DTSTAMP:20220918T190000
DTSTART:20220918T190000
DTEND:20220922T190000
SUMMARY:SML Downsizing Auction
LOCATION:770 Cornell Road\, Rocky Mount\, VA 24151\, US
DESCRIPTION:SML Downsizing Auction  Bidding Opens - Sunday\, Sept 18th b
 eginning at 7PM Bidding Closes - Thursday\, Sept 22nd beginni
 ng at 7PM Preview/Open-House - Thursday\, Sept 22nd from 2PM 
 till 5:30PM at Lucky Dog Auction & Realty (770 Cornell Rd Ro
 cky Mount\, VA 24151) Removal/Pickup - Friday\, Sept 23rd from
  10AM till 5:30PM Please Note: All items are sold as-is and 
 where-is with no warranty expressed or implied. A 15% buyer 
 premium applies to all purchases\, as does VA sales tax. Rece
 ive a 3% discount off the premium by paying with cash or goo
 d check. Items must be paid for with 24 hours of auction end
 ing. Pickup/Removal: If you don't pickup your items on the s
 cheduled pickup day/times a $7 storage fee for items that wi
 ll fit in a box and furniture will incur a $20 storage fee. 
 If you purchase a few small items and a piece of furniture a
 nd don't make the scheduled pickup\, a $27 storage fee will b
 e added to your bill and the card you registered with will b
 e charged. We will hold items until Wednesday\, September 30t
 h and then the item(s) will be considered forfeited and beco
 me property of Lucky Dog Auction LLC. Please come get your i
 tems\, we don't have room to store them. No cash/check discou
 nt will be applied if items are not picked up on the schedul
 ed time/date. 
URL:https://www.luckydogauction.com/auctions/detail/bw88650
SEQUENCE:1
END:VEVENT
END:VCALENDAR