BEGIN:VCALENDAR
VERSION:2.0
PRODID:-//ExpressionEngine Easy iCalendar plugin//NONSGML v2.0.1//EN
X-WR-TIMEZONE:America/New_York
X-WR-CALNAME:Upcoming Auctions
BEGIN:VEVENT
UID:89065
DTSTAMP:20220919T190000
DTSTART:20220919T190000
DTEND:20220925T190000
SUMMARY:2020 Knollwood Downsizing Auction
LOCATION:2020 Knollwood Rd SW\, Roanoke\, VA 24018\, US
DESCRIPTION:2020 Knollwood Rd Downsizing Auction Bidding Opens - Monday\,
  September 19th at 7PM Bidding Closes - Sunday\, September 25
 th beginning at 7PM Preview/Open-House - Saturday\, September
  24th from 10AM till NOON Pickup/Removal - Monday\, Septembe
 r 26th from 10AM till 5:30PM - Bring help to load. No auctio
 n staff available to assist in loading. Pickup location is i
 n Roanoke at 2020 Knollwood Rd SW Roanoke VA 24018. This is 
 the only pickup day/times. If you can't make it\, please refr
 ain from bidding. Please Note: All items are sold as-is and 
 where-is with no warranty expressed or implied. A 15% buyer 
 premium applies to all purchases as does VA sales tax. Recei
 ve a 3% discount off the premium by paying with cash or good
  check. 
URL:https://www.luckydogauction.com/auctions/detail/bw89065
SEQUENCE:1
END:VEVENT
END:VCALENDAR