BEGIN:VCALENDAR
VERSION:2.0
PRODID:-//ExpressionEngine Easy iCalendar plugin//NONSGML v2.0.1//EN
X-WR-TIMEZONE:America/New_York
X-WR-CALNAME:Upcoming Auctions
BEGIN:VEVENT
UID:89743
DTSTAMP:20221007T190000
DTSTART:20221007T190000
DTEND:20221017T190000
SUMMARY:Fall Gun Auction
LOCATION:770 Cornell Road\, Rocky Mount\, VA 24151\, US
DESCRIPTION:Fall Gun Auction  Still accepting consignments! Call Mike S
 mith at (540) 484-3320 to get your guns in the auction!  Bi
 dding Opens - Friday\, October 7th at 7PM Bidding Closes - Mo
 nday\, October 17th beginning at 7PM Preview/Open-House - Mon
 day\, October 17th from NOON till 5:30PM Pickup/Removal - Tue
 sday\, October 18th from 10AM till 5:30PM Please Note: All it
 ems are sold as-is and where-is with no warranty expressed o
 r implied. Preview is highly recommended so you can satisfy
  yourself of condition. A 15% buyer premium is applied to al
 l purchases\, as is VA sales tax. Receive a 3% discount off t
 he premium by paying with cash or good check.  If you don't
  make the scheduled pickup/removal date/times a $10 storage 
 fee will be applied to your bill. Firearms MUST be picked up
  by Monday\, October 24th at 5PM or they will be considered a
 bandon and become property of Lucky Dog Auction LLC. All inv
 oices must be paid within 24 hours of the auction ending. Ca
 ll to schedule alternate pickup\, one of our FFL approved emp
 loyees needs to be present to conduct background checks. 
URL:https://www.luckydogauction.com/auctions/detail/bw89743
SEQUENCE:1
END:VEVENT
END:VCALENDAR